BEGIN:VCALENDAR
VERSION:2.0
PRODID:-//SaigonTex - ECPv6.15.13//NONSGML v1.0//EN
CALSCALE:GREGORIAN
METHOD:PUBLISH
X-ORIGINAL-URL:https://saigontex.com.vn
X-WR-CALDESC:Events for SaigonTex
REFRESH-INTERVAL;VALUE=DURATION:PT1H
X-Robots-Tag:noindex
X-PUBLISHED-TTL:PT1H
BEGIN:VTIMEZONE
TZID:Asia/Krasnoyarsk
BEGIN:STANDARD
TZOFFSETFROM:+0700
TZOFFSETTO:+0700
TZNAME:+07
DTSTART:20250101T000000
END:STANDARD
END:VTIMEZONE
BEGIN:VEVENT
DTSTART;TZID=Asia/Krasnoyarsk:20260411T101000
DTEND;TZID=Asia/Krasnoyarsk:20260411T103000
DTSTAMP:20260420T211659
CREATED:20260325T152317Z
LAST-MODIFIED:20260325T152345Z
UID:10000056-1775902200-1775903400@saigontex.com.vn
SUMMARY:Xu hướng tìm nguồn cung ứng có trách nhiệm và các quy định mới ảnh hưởng ngành dệt may
DESCRIPTION:
URL:https://saigontex.com.vn/event/xu-huong-tim-nguon-cung-ung-co-trach-nhiem-va-cac-quy-dinh-moi-anh-huong-nganh-det-may/
CATEGORIES:2026,SaigonTex,Seminar,Tiêu điểm
ATTACH;FMTTYPE=image/jpeg:https://saigontex.com.vn/wp-content/uploads/2026/03/Xu-huong-tim-nguon-cung-ung-co-trach-nhiem-va-cac-quy-dinh-moi-anh-huong-nganh-det-may.jpg
END:VEVENT
END:VCALENDAR